BEGIN:VCALENDAR
VERSION:2.0
PRODID:-//MBS - ECPv4.6.26//NONSGML v1.0//EN
CALSCALE:GREGORIAN
METHOD:PUBLISH
X-WR-CALNAME:MBS
X-ORIGINAL-URL:http://sites.mbsradio.com
X-WR-CALDESC:Events for MBS
BEGIN:VEVENT
DTSTART;VALUE=DATE:20170318
DTEND;VALUE=DATE:20170319
DTSTAMP:20260419T175828
CREATED:20170309T182118Z
LAST-MODIFIED:20170309T182118Z
UID:8280-1489795200-1489881599@sites.mbsradio.com
SUMMARY:Young writers group
DESCRIPTION:Young writers group\nSaturday\, March 18 at 1:00 p.m.\nWe welcome young people (10 to 18 ) of all interests\, abilities and backgrounds who enjoy any form of writing. Our group is about sparking ideas and exploring the power of words through creative writing exercises and techniques rather than obsessing over spelling and grammar. \n
URL:http://sites.mbsradio.com/event/young-writers-group/
END:VEVENT
END:VCALENDAR