BEGIN:VCALENDAR
VERSION:2.0
PRODID:-//MBS - ECPv4.6.26//NONSGML v1.0//EN
CALSCALE:GREGORIAN
METHOD:PUBLISH
X-WR-CALNAME:MBS
X-ORIGINAL-URL:http://sites.mbsradio.com
X-WR-CALDESC:Events for MBS
BEGIN:VEVENT
DTSTART;TZID=UTC+0:20160611T120000
DTEND;TZID=UTC+0:20160611T170000
DTSTAMP:20260420T175802
CREATED:20160613T204945Z
LAST-MODIFIED:20160613T204945Z
UID:71-1465646400-1465664400@sites.mbsradio.com
SUMMARY:Walk for PTSD
DESCRIPTION:
URL:http://sites.mbsradio.com/event/walk-for-ptsd/
LOCATION:Halifax Commons\, Halifax\, Nova Scotia\, B3H 2Z4\, Canada
END:VEVENT
END:VCALENDAR