BEGIN:VCALENDAR
VERSION:2.0
PRODID:-//MBS - ECPv4.6.26//NONSGML v1.0//EN
CALSCALE:GREGORIAN
METHOD:PUBLISH
X-WR-CALNAME:MBS
X-ORIGINAL-URL:http://sites.mbsradio.com
X-WR-CALDESC:Events for MBS
BEGIN:VEVENT
DTSTART;VALUE=DATE:20170312
DTEND;VALUE=DATE:20170313
DTSTAMP:20260420T052903
CREATED:20170216T153147Z
LAST-MODIFIED:20170216T153147Z
UID:6282-1489276800-1489363199@sites.mbsradio.com
SUMMARY:Variety Show
DESCRIPTION:Variety Show-Forties Community Centre-1787 Forties Rd.\,New Ross\nSunday\, March 12 – 1:30-4:00pm\, $5.00 admission\nBonded Connection\, Country Rebels\, Country Heat\, Cye & the Guys\nSound by Dave Guptill Wheelchair accessible Canteen available\nCall 689-2000 or 689-2612 for Information \n
URL:http://sites.mbsradio.com/event/variety-show-2/
END:VEVENT
END:VCALENDAR