BEGIN:VCALENDAR
VERSION:2.0
PRODID:-//MBS - ECPv4.6.26//NONSGML v1.0//EN
CALSCALE:GREGORIAN
METHOD:PUBLISH
X-WR-CALNAME:MBS
X-ORIGINAL-URL:http://sites.mbsradio.com
X-WR-CALDESC:Events for MBS
BEGIN:VEVENT
DTSTART;VALUE=DATE:20170304
DTEND;VALUE=DATE:20170305
DTSTAMP:20260421T093103
CREATED:20170216T151734Z
LAST-MODIFIED:20170216T151734Z
UID:6259-1488585600-1488671999@sites.mbsradio.com
SUMMARY:The Halifax Polar Plunge
DESCRIPTION:The Nova Scotia Law Enforcement Torch Run Committee and Special Olympics Nova Scotia invite you to join them on March 4th for the COOLEST event in town!  The Halifax Polar Plunge will take place on March 4th at Grand Parade.  As the cannons signal noon the first plunger will take to the man-made pool to see if their plunge is good enough to win them lunch for two from the toughest judge in Town\, Mayor Mike Savage. \nIf you are BRAVE enough…Registration is only $50.00 and each plunger will receive a one of a kind event toque as well as the knowledge that they are helping to improve the lives of Nova Scotian’s living with an intellectual disability though sport. \nFor more information visit us online at halifaxpolarplunge.ca or call 902-429-2266 x 2 \n
URL:http://sites.mbsradio.com/event/the-halifax-polar-plunge/
END:VEVENT
END:VCALENDAR