BEGIN:VCALENDAR
VERSION:2.0
PRODID:-//MBS - ECPv4.6.26//NONSGML v1.0//EN
CALSCALE:GREGORIAN
METHOD:PUBLISH
X-WR-CALNAME:MBS
X-ORIGINAL-URL:http://sites.mbsradio.com
X-WR-CALDESC:Events for MBS
BEGIN:VEVENT
DTSTART;TZID=America/Halifax:20170309T080000
DTEND;TZID=America/Halifax:20170309T170000
DTSTAMP:20260420T185559
CREATED:20170309T181625Z
LAST-MODIFIED:20170309T181637Z
UID:8270-1489046400-1489078800@sites.mbsradio.com
SUMMARY:Summerside Area Garden Club
DESCRIPTION:Summerside Area Garden Club\nMarch Meeting Thursday Mar 16\, 2017\n7:00 PM Wilmot Community Centre\nPresentation by Phil Ferraro on “Bees” \n
URL:http://sites.mbsradio.com/event/summerside-area-garden-club/
END:VEVENT
END:VCALENDAR