BEGIN:VCALENDAR
VERSION:2.0
PRODID:-//MBS - ECPv4.6.26//NONSGML v1.0//EN
CALSCALE:GREGORIAN
METHOD:PUBLISH
X-WR-CALNAME:MBS
X-ORIGINAL-URL:http://sites.mbsradio.com
X-WR-CALDESC:Events for MBS
BEGIN:VEVENT
DTSTART;VALUE=DATE:20160818
DTEND;VALUE=DATE:20160819
DTSTAMP:20260420T095124
CREATED:20160609T201035Z
LAST-MODIFIED:20160609T201035Z
UID:50-1471478400-1471564799@sites.mbsradio.com
SUMMARY:Rascal Flatts
DESCRIPTION:FX is excited to present Rascal Flatts with Jason Blaine at the Scotiabank Centre on August 18th! Tickets are on sale now! \n
URL:http://sites.mbsradio.com/event/rascal-flatts/
LOCATION:Scotiabank Centre\, 1800 Argyle St\, Halifax\, Nova Scotia\, B3J 2V9\, Canada
CATEGORIES:Concerts
ATTACH;FMTTYPE=image/jpeg:http://sites.mbsradio.com/wp-content/uploads/2016/06/sfnmlhci_unspecified.jpeg
END:VEVENT
END:VCALENDAR