BEGIN:VCALENDAR
VERSION:2.0
PRODID:-//MBS - ECPv4.6.26//NONSGML v1.0//EN
CALSCALE:GREGORIAN
METHOD:PUBLISH
X-WR-CALNAME:MBS
X-ORIGINAL-URL:http://sites.mbsradio.com
X-WR-CALDESC:Events for MBS
BEGIN:VEVENT
DTSTART;VALUE=DATE:20170313
DTEND;VALUE=DATE:20170314
DTSTAMP:20260420T053717
CREATED:20170309T182836Z
LAST-MODIFIED:20170309T182836Z
UID:8294-1489363200-1489449599@sites.mbsradio.com
SUMMARY:Pottery classes at the PEI Potters Studio
DESCRIPTION:Registration for pottery classes at the PEI Potters Studio in Victoria Park opens on March 13 at 9 am. Classes for adult beginners are offered on Monday\, Tuesday and Thursday evenings from 6:30 to 9:30 pm beginning the week of April 10. Classes for children ages 9 to 14 will be held on Saturdays from 10:00 to 12:00\, and depending on interest\, from 1:00 to 3:00 beginning April 8. All classes run for a 10 week period. Registration is online and is first come first serve except for spaces reserved for returning students and those with gift certificates. To register\, please visit www.peipottersstudio.com. For more information please call Barb at 902-218-2493. \n
URL:http://sites.mbsradio.com/event/pottery-classes-at-the-pei-potters-studio/
END:VEVENT
END:VCALENDAR