BEGIN:VCALENDAR
VERSION:2.0
PRODID:-//MBS - ECPv4.6.26//NONSGML v1.0//EN
CALSCALE:GREGORIAN
METHOD:PUBLISH
X-WR-CALNAME:MBS
X-ORIGINAL-URL:http://sites.mbsradio.com
X-WR-CALDESC:Events for MBS
BEGIN:VEVENT
DTSTART;VALUE=DATE:20170301
DTEND;VALUE=DATE:20170302
DTSTAMP:20260421T222156
CREATED:20170208T201146Z
LAST-MODIFIED:20170208T201146Z
UID:5908-1488326400-1488412799@sites.mbsradio.com
SUMMARY:PEI Women’s Institute District #9 Area Convention
DESCRIPTION:Members of PEI Women’s Institute District #9\, including Canoe Cove\, Clyde River\, Hampshire\, Long Creek\, Meadowbank\, North River\, Rice Point\, Riverdale/Churchill\, and St. Catherines\, are invited to attend the Area Convention at North River Fire Hall on Wednesday\, March 1. Registration and lunch are at 6 pm\, and the convention starts at 7 pm. For more information\, contact Margaret\, 902-566-4217. \n
URL:http://sites.mbsradio.com/event/pei-womens-institute-district-9-area-convention/
END:VEVENT
END:VCALENDAR