BEGIN:VCALENDAR
VERSION:2.0
PRODID:-//MBS - ECPv4.6.26//NONSGML v1.0//EN
CALSCALE:GREGORIAN
METHOD:PUBLISH
X-WR-CALNAME:MBS
X-ORIGINAL-URL:http://sites.mbsradio.com
X-WR-CALDESC:Events for MBS
BEGIN:VEVENT
DTSTART;VALUE=DATE:20170228
DTEND;VALUE=DATE:20170301
DTSTAMP:20260423T172223
CREATED:20170216T210008Z
LAST-MODIFIED:20170216T210008Z
UID:6325-1488240000-1488326399@sites.mbsradio.com
SUMMARY:Pancake & Sausage Supper
DESCRIPTION:St. Luke’s United Chuch\n560 Donkin Highway\, Donkin\nCommittee of Stewards is having a \nPancake & Sausage Supper\nwith Dessert\nTuesday\, February 28th from 2 – 4 PM\nEat In or Take Out\nAdults: $10\, Children $5\nFor Tickets call:\nMarilyn 902-737-2363 or Verna 902-737-2024\nEveryone is Welcome! \n
URL:http://sites.mbsradio.com/event/pancake-sausage-supper/
END:VEVENT
END:VCALENDAR