BEGIN:VCALENDAR
VERSION:2.0
PRODID:-//MBS - ECPv4.6.26//NONSGML v1.0//EN
CALSCALE:GREGORIAN
METHOD:PUBLISH
X-WR-CALNAME:MBS
X-ORIGINAL-URL:http://sites.mbsradio.com
X-WR-CALDESC:Events for MBS
BEGIN:VEVENT
DTSTART;VALUE=DATE:20170228
DTEND;VALUE=DATE:20170301
DTSTAMP:20260423T133807
CREATED:20170216T212400Z
LAST-MODIFIED:20170216T212400Z
UID:6358-1488240000-1488326399@sites.mbsradio.com
SUMMARY:PANCAKE LUNCHEON (Take out only)
DESCRIPTION:February 28th is SHROVE TUESDAY!\nPANCAKE LUNCHEON (Take out only) \n$10.00 per plate which includes:\n3 pancakes\,4 sausages and desert. Syrup & Butter included. \nPick up @ St. Albans Parish\, 15 St. Albans Ave\, Whitney Pier 11am—6pm\nDELIVERY AVAILABLE!\nTo purchase for delivery: Please contact Janet Wylde @ 902-539-4831 or \nKim Sheppard 902-539-8957 \n
URL:http://sites.mbsradio.com/event/pancake-luncheon-take-out-only/
END:VEVENT
END:VCALENDAR