BEGIN:VCALENDAR
VERSION:2.0
PRODID:-//MBS - ECPv4.6.26//NONSGML v1.0//EN
CALSCALE:GREGORIAN
METHOD:PUBLISH
X-WR-CALNAME:MBS
X-ORIGINAL-URL:http://sites.mbsradio.com
X-WR-CALDESC:Events for MBS
BEGIN:VEVENT
DTSTART;VALUE=DATE:20170209
DTEND;VALUE=DATE:20170210
DTSTAMP:20260419T125352
CREATED:20170216T212712Z
LAST-MODIFIED:20170216T212712Z
UID:6365-1486598400-1486684799@sites.mbsradio.com
SUMMARY:Own Your Wellness: Practical Strategies to Manage Stress
DESCRIPTION:Own Your Wellness: Practical Strategies to Manage Stress\nThursday\, February 9th \n7 PM\nMcConnell Library \nSTRESS has become a fact of life. \nSigns include\, weight gain\, fatigue\, irritability\, but left un-addressed\, \nearly symptoms can develop into more serious physical and mental \nhealth problems. \nIn this talk\, learn simple and practical strategies to prevent and manage everyday stress and improve overall wellbeing. \nPresenter: Harman Singh\, M.A.\, R.Psych. \nEveryone welcome. \n
URL:http://sites.mbsradio.com/event/own-your-wellness-practical-strategies-to-manage-stress/
END:VEVENT
END:VCALENDAR