BEGIN:VCALENDAR
VERSION:2.0
PRODID:-//MBS - ECPv4.6.26//NONSGML v1.0//EN
CALSCALE:GREGORIAN
METHOD:PUBLISH
X-WR-CALNAME:MBS
X-ORIGINAL-URL:http://sites.mbsradio.com
X-WR-CALDESC:Events for MBS
BEGIN:VEVENT
DTSTART;VALUE=DATE:20170304
DTEND;VALUE=DATE:20170305
DTSTAMP:20260421T093135
CREATED:20170216T152819Z
LAST-MODIFIED:20170216T152819Z
UID:6271-1488585600-1488671999@sites.mbsradio.com
SUMMARY:Lenten Fish Chowder Luncheons
DESCRIPTION:Best Chowder in town!!\nFish Chowder Luncheon\nwith Homemade Biscuits and Desserts\nEvery Saturday during Lent.\n11:30-1:00 pm\nSt. Andrew’s Anglican Church\n8 Lock’s Road\, Dartmouth\n902-435-2987 \n
URL:http://sites.mbsradio.com/event/lenten-fish-chowder-luncheons/2017-03-04/
END:VEVENT
END:VCALENDAR