BEGIN:VCALENDAR
VERSION:2.0
PRODID:-//MBS - ECPv4.6.26//NONSGML v1.0//EN
CALSCALE:GREGORIAN
METHOD:PUBLISH
X-WR-CALNAME:MBS
X-ORIGINAL-URL:http://sites.mbsradio.com
X-WR-CALDESC:Events for MBS
BEGIN:VEVENT
DTSTART;VALUE=DATE:20170311
DTEND;VALUE=DATE:20170312
DTSTAMP:20260420T091126
CREATED:20170302T191905Z
LAST-MODIFIED:20170302T191905Z
UID:7565-1489190400-1489276799@sites.mbsradio.com
SUMMARY:Katherine MacCallum reading
DESCRIPTION:Katherine MacCallum will be reading from her play\, “Sixties Girls” Saturday\, March 11\, 2:00 p.m. at Confederation Centre Public Library. “Sixties Girls” is a comedy play\, set in the mid to late sixties. It focuses on two mature teenage girls whose upbeat personalities help them deal with just about any situation. Start out by getting to know the girls when they were just sixteen\, and follow them as they get a little older and decide to move to Toronto to make it big as many Maritimers back in the 60’s did. “Sixties Girls” is based on true events. \n
URL:http://sites.mbsradio.com/event/katherine-maccallum-reading/
END:VEVENT
END:VCALENDAR