BEGIN:VCALENDAR
VERSION:2.0
PRODID:-//MBS - ECPv4.6.26//NONSGML v1.0//EN
CALSCALE:GREGORIAN
METHOD:PUBLISH
X-WR-CALNAME:MBS
X-ORIGINAL-URL:http://sites.mbsradio.com
X-WR-CALDESC:Events for MBS
BEGIN:VEVENT
DTSTART;VALUE=DATE:20170228
DTEND;VALUE=DATE:20170301
DTSTAMP:20260423T172444
CREATED:20170216T210909Z
LAST-MODIFIED:20170216T210909Z
UID:6346-1488240000-1488326399@sites.mbsradio.com
SUMMARY:Family Literacy Day event
DESCRIPTION:The Glace Bay Library is planning a Family Literacy Day event for 28th February 2017. This event will be in conjunction with Family Literacy Day 2017 & Harry Potter Book Night 2017. For grades 3 and up from 6pm-8pm Here at the Glace Bay Library\, young wizards\, witches & muggles will be treated to an evening of games\, activities\, readings and quizzes. It all begins when the Sorting Hat decides who will be in which house\, and houses will be competing for house points throughout the evening. Challenges and activities will include Transfiguration games\, readings from our favourite Harry Potter books & the Hogwarts Hall of Fame Quiz! We’ll be decorating the library and creating our own professors’ offices as well. \nSee you on February 28th. \n
URL:http://sites.mbsradio.com/event/family-literacy-day-event/
END:VEVENT
END:VCALENDAR