BEGIN:VCALENDAR
VERSION:2.0
PRODID:-//MBS - ECPv4.6.26//NONSGML v1.0//EN
CALSCALE:GREGORIAN
METHOD:PUBLISH
X-WR-CALNAME:MBS
X-ORIGINAL-URL:http://sites.mbsradio.com
X-WR-CALDESC:Events for MBS
BEGIN:VEVENT
DTSTART;VALUE=DATE:20170308
DTEND;VALUE=DATE:20170309
DTSTAMP:20260421T010741
CREATED:20170302T190106Z
LAST-MODIFIED:20170302T190106Z
UID:7559-1488931200-1489017599@sites.mbsradio.com
SUMMARY:Electoral Boundaries Commission Public Meeting
DESCRIPTION:The Electoral Boundaries Commission will hold a Public Meeting at Southern Kings Consolidated School\, Wednesday March 8th\, 2017 from 6:30pm – 8:30pm to discuss the possible re-alignment of the provincial electoral boundaries. All are welcome to attend and join the discussion. Refer to the website www.electoralboundaries.pe.ca for sample maps and information. \n
URL:http://sites.mbsradio.com/event/electoral-boundaries-commission-public-meeting-3/
END:VEVENT
END:VCALENDAR