BEGIN:VCALENDAR
VERSION:2.0
PRODID:-//MBS - ECPv4.6.26//NONSGML v1.0//EN
CALSCALE:GREGORIAN
METHOD:PUBLISH
X-WR-CALNAME:MBS
X-ORIGINAL-URL:http://sites.mbsradio.com
X-WR-CALDESC:Events for MBS
BEGIN:VEVENT
DTSTART;VALUE=DATE:20170205
DTEND;VALUE=DATE:20170206
DTSTAMP:20260419T210352
CREATED:20170208T185131Z
LAST-MODIFIED:20170208T185131Z
UID:5878-1486252800-1486339199@sites.mbsradio.com
SUMMARY:East Hants Bluegrass & Oldtime Music Association Monthly Bluegrass Jam
DESCRIPTION:1:30 – 7:30 PM – East Hants Bluegrass & Oldtime Music Association Monthly Bluegrass Jam – Milford Lantz United Church – 2134 Highway # 2 in Milford – Members & Guests – new members welcome. For Information – 902-883-7189 \n
URL:http://sites.mbsradio.com/event/east-hants-bluegrass-oldtime-music-association-monthly-bluegrass-jam/
END:VEVENT
END:VCALENDAR