BEGIN:VCALENDAR
VERSION:2.0
PRODID:-//MBS - ECPv4.6.26//NONSGML v1.0//EN
CALSCALE:GREGORIAN
METHOD:PUBLISH
X-WR-CALNAME:MBS
X-ORIGINAL-URL:http://sites.mbsradio.com
X-WR-CALDESC:Events for MBS
BEGIN:VEVENT
DTSTART;TZID=UTC+0:20160807T080000
DTEND;TZID=UTC+0:20160807T170000
DTSTAMP:20260420T145429
CREATED:20160807T044417Z
LAST-MODIFIED:20160807T044417Z
UID:190-1470556800-1470589200@sites.mbsradio.com
SUMMARY:East Coast Country Nights at Casino Nova Scotia
DESCRIPTION:East Coast Country Night\nWhere: Casino Nova Scotia \nWhen: 9pm\, Fridays \n  \nJoin FX 101.9 every Friday night at the Casino where we host up and coming local artists and the best part?  It’s FREE! \n
URL:http://sites.mbsradio.com/event/east-coast-country-nights-at-casino-nova-scotia/
END:VEVENT
END:VCALENDAR