BEGIN:VCALENDAR
VERSION:2.0
PRODID:-//MBS - ECPv4.6.26//NONSGML v1.0//EN
CALSCALE:GREGORIAN
METHOD:PUBLISH
X-WR-CALNAME:MBS
X-ORIGINAL-URL:http://sites.mbsradio.com
X-WR-CALDESC:Events for MBS
BEGIN:VEVENT
DTSTART;VALUE=DATE:20170305
DTEND;VALUE=DATE:20170306
DTSTAMP:20260421T043602
CREATED:20170208T184030Z
LAST-MODIFIED:20170208T184030Z
UID:5866-1488672000-1488758399@sites.mbsradio.com
SUMMARY:Crib Tournament
DESCRIPTION:Crib Tournament\, Sunday\, March 5th Forties Community Centre\, New Ross Doors open 12 noon\, Registration starts 12:30 Play starts 1pm $ 20.00 team Information call 689-2147 Canteen Available wheelchair accessible \n
URL:http://sites.mbsradio.com/event/crib-tournament/
END:VEVENT
END:VCALENDAR