BEGIN:VCALENDAR
VERSION:2.0
PRODID:-//MBS - ECPv4.6.26//NONSGML v1.0//EN
CALSCALE:GREGORIAN
METHOD:PUBLISH
X-WR-CALNAME:MBS
X-ORIGINAL-URL:http://sites.mbsradio.com
X-WR-CALDESC:Events for MBS
BEGIN:VEVENT
DTSTART;TZID=UTC+0:20160616T210000
DTEND;TZID=UTC+0:20160616T210000
DTSTAMP:20260420T162146
CREATED:20160613T205137Z
LAST-MODIFIED:20160613T205137Z
UID:73-1466110800-1466110800@sites.mbsradio.com
SUMMARY:Burrito Jax Tall Ship Silva Country Cruise
DESCRIPTION:Come listen to the best country in Halifax on the Tall Ship Silva with FX101.9 and Murphy’s on the Water every Thursday night this summer! \n
URL:http://sites.mbsradio.com/event/burrito-jax-tall-ship-silva-country-cruise/
LOCATION:Halifax Harbour\, Nova Scotia\, Canada
END:VEVENT
END:VCALENDAR