BEGIN:VCALENDAR
VERSION:2.0
PRODID:-//MBS - ECPv4.6.26//NONSGML v1.0//EN
CALSCALE:GREGORIAN
METHOD:PUBLISH
X-WR-CALNAME:MBS
X-ORIGINAL-URL:http://sites.mbsradio.com
X-WR-CALDESC:Events for MBS
BEGIN:VEVENT
DTSTART;TZID=UTC+0:20160811T210000
DTEND;TZID=UTC+0:20160811T233000
DTSTAMP:20260420T113747
CREATED:20160807T044225Z
LAST-MODIFIED:20160807T044225Z
UID:187-1470949200-1470958200@sites.mbsradio.com
SUMMARY:Burrito Jax FX Country Cruise on the Tall ship Silva
DESCRIPTION:Where: Halifax Harbour \nTickets available here! \nWhen: 9pm\, Thursdays\, 2016-06-16 to 2016-09-08 \n
URL:http://sites.mbsradio.com/event/burrito-jax-fx-country-cruise-on-the-tall-ship-silva/
LOCATION:Halifax Harbour\, Nova Scotia\, Canada
ATTACH;FMTTYPE=image/png:http://sites.mbsradio.com/wp-content/uploads/2016/08/otpztwqu_SILVA_CAPTJACK_2016.png
END:VEVENT
END:VCALENDAR