BEGIN:VCALENDAR
VERSION:2.0
PRODID:-//MBS - ECPv4.6.26//NONSGML v1.0//EN
CALSCALE:GREGORIAN
METHOD:PUBLISH
X-WR-CALNAME:MBS
X-ORIGINAL-URL:http://sites.mbsradio.com
X-WR-CALDESC:Events for MBS
BEGIN:VEVENT
DTSTART;VALUE=DATE:20170306
DTEND;VALUE=DATE:20170307
DTSTAMP:20260421T011408
CREATED:20170228T194753Z
LAST-MODIFIED:20170228T194753Z
UID:7302-1488758400-1488844799@sites.mbsradio.com
SUMMARY:Bowl/Billiards for Kids' Sake
DESCRIPTION:We are a proud supporter of Big Brothers\, Big Sisters \n \nMarch 6 Town Centre Glace Bay \nMarch 9 Strand Sydney Mines \nMarch 24 Dooly’s Sydney (Billiards and wii bowling) \nForm a team of 4 and call our hotline (902-564-5437) to book an hour of free fun. We will deliver your pledge sheet package to you. \n
URL:http://sites.mbsradio.com/event/bowlbilliards-for-kids-sake/2017-03-06/
END:VEVENT
END:VCALENDAR