BEGIN:VCALENDAR
VERSION:2.0
PRODID:-//MBS - ECPv4.6.26//NONSGML v1.0//EN
CALSCALE:GREGORIAN
METHOD:PUBLISH
X-WR-CALNAME:MBS
X-ORIGINAL-URL:http://sites.mbsradio.com
X-WR-CALDESC:Events for MBS
BEGIN:VEVENT
DTSTART;VALUE=DATE:20170201
DTEND;VALUE=DATE:20170202
DTSTAMP:20260419T235613
CREATED:20170216T212812Z
LAST-MODIFIED:20170216T212812Z
UID:6367-1485907200-1485993599@sites.mbsradio.com
SUMMARY:Afro Dance @ the Library
DESCRIPTION:Afro Dance @ the Library \nCelebrate African Heritage Month with a fun and exciting way to learn about African Culture! The Maritime Centre for African Dance (MCAD) will provide live demonstrations of African dance and drumming\, discussion and a Q&A. You might even get a chance to join in if you like! Register now as space is limited. Open to all ages! \nWednesday Feb 1st\, 3:30 – 4:30 pm at the Glace Bay Library \n -call 902-849-8657 to register \nFriday Feb 3rd\, 7 – 8 pm at the McConnell Library\, Sydney \n -call 902-562-3161 to register \nThursday Feb 9th\, 7 – 8 pm at the North Sydney Library \n -call 902-794-3272 to register \n
URL:http://sites.mbsradio.com/event/afro-dance-the-library/2017-02-01/
END:VEVENT
END:VCALENDAR