BEGIN:VCALENDAR
VERSION:2.0
PRODID:-//MBS - ECPv4.6.26//NONSGML v1.0//EN
CALSCALE:GREGORIAN
METHOD:PUBLISH
X-WR-CALNAME:MBS
X-ORIGINAL-URL:http://sites.mbsradio.com
X-WR-CALDESC:Events for MBS
BEGIN:VEVENT
DTSTART;VALUE=DATE:20170208
DTEND;VALUE=DATE:20170209
DTSTAMP:20260419T172247
CREATED:20170216T210404Z
LAST-MODIFIED:20170216T210404Z
UID:6334-1486512000-1486598399@sites.mbsradio.com
SUMMARY:45's Card Game
DESCRIPTION:45’s Card Game\nwill be held at \nThe Mira Seniors & Pensioners Centre\nMarion Bridge\nWednesday\, February 8 & February 22\, 2017\n2 PM – 4 PM\nAll are Welcome \n
URL:http://sites.mbsradio.com/event/45s-card-game/2017-02-08/
END:VEVENT
END:VCALENDAR